BEGIN:VCALENDAR
VERSION:2.0
PRODID:-//eventon.com NONSGML v1.0//EN
BEGIN:VEVENT
UID:69e6fe9e71cd2
DTSTAMP:20260421T063542
DTSTART:20230605T060000Z
DTEND:20230609T200000Z
LOCATION:
SUMMARY:Résidence Myrath
DESCRIPTION: Résidence Myrath
END:VEVENT
END:VCALENDAR