BEGIN:VCALENDAR
VERSION:2.0
PRODID:-//eventon.com NONSGML v1.0//EN
BEGIN:VEVENT
UID:69ebf8b806c7f
DTSTAMP:20260425T011152
DTSTART:20231214T160000Z
DTEND:20231214T190000Z
LOCATION:
SUMMARY:Présentation Lecture et Dédicasse
DESCRIPTION: Présentation Lecture et Dédicasse
END:VEVENT
END:VCALENDAR